BEGIN:VCALENDAR
VERSION:2.0
PRODID:-//Truck Drivers USA - ECPv6.15.20//NONSGML v1.0//EN
CALSCALE:GREGORIAN
METHOD:PUBLISH
X-ORIGINAL-URL:https://truckdriversus.com
X-WR-CALDESC:Events for Truck Drivers USA
REFRESH-INTERVAL;VALUE=DURATION:PT1H
X-Robots-Tag:noindex
X-PUBLISHED-TTL:PT1H
BEGIN:VTIMEZONE
TZID:UTC
BEGIN:STANDARD
TZOFFSETFROM:+0000
TZOFFSETTO:+0000
TZNAME:UTC
DTSTART:20210101T000000
END:STANDARD
END:VTIMEZONE
BEGIN:VEVENT
DTSTART;VALUE=DATE:20220319
DTEND;VALUE=DATE:20220323
DTSTAMP:20260420T003707
CREATED:20220224T160147Z
LAST-MODIFIED:20230123T205850Z
UID:17435-1647648000-1647993599@truckdriversus.com
SUMMARY:TCA Truckload 2022
DESCRIPTION:Join more than 1\,200 industry professionals in sunny Las Vegas for Truckload 2022\, “the premier event for truckload professionals looking to make new connections and educate themselves on the latest trends in the industry.” Truckload 2022 will feature keynote speakers Ben Carson and Kevin Mitnick\, truckload executive panels and a March Madness viewing lounge.
URL:https://truckdriversus.com/event/tca-truckload-2022/
LOCATION:MO
CATEGORIES:Events,Truck Shows
END:VEVENT
END:VCALENDAR