BEGIN:VCALENDAR
VERSION:2.0
PRODID:-//Truck Drivers USA - ECPv6.15.20//NONSGML v1.0//EN
CALSCALE:GREGORIAN
METHOD:PUBLISH
X-ORIGINAL-URL:https://truckdriversus.com
X-WR-CALDESC:Events for Truck Drivers USA
REFRESH-INTERVAL;VALUE=DURATION:PT1H
X-Robots-Tag:noindex
X-PUBLISHED-TTL:PT1H
BEGIN:VTIMEZONE
TZID:UTC
BEGIN:STANDARD
TZOFFSETFROM:+0000
TZOFFSETTO:+0000
TZNAME:UTC
DTSTART:20210101T000000
END:STANDARD
END:VTIMEZONE
BEGIN:VEVENT
DTSTART;VALUE=DATE:20220912
DTEND;VALUE=DATE:20220915
DTSTAMP:20260422T223121
CREATED:20220913T020126Z
LAST-MODIFIED:20230125T035247Z
UID:17513-1662940800-1663199999@truckdriversus.com
SUMMARY:Driver Appreciation Week - Truck World - Conneaut\, OH Location
DESCRIPTION:Driver Appreciation Week – Truck World\nSeptember 12-14\, 2022 Conneaut\, OH Location\nTime to celebrate our DRIVERS!\nSAVE THE DATE…. September 12-14\, 2022 \nTruck World has Lunch for Drivers\, Games\, T-Shirt Giveaways\, Double Loyalty Points during September & more!  Be sure to download our APP so you don’t miss any updates!
URL:https://truckdriversus.com/event/driver-appreciation-week-truck-world-conneaut-oh-location/
CATEGORIES:Driver Appreciation,Events
ATTACH;FMTTYPE=image/jpeg:https://truckdriversus.com/wp-content/uploads/2023/01/Truck-World-Driver-Appreciation.jpg
END:VEVENT
BEGIN:VEVENT
DTSTART;VALUE=DATE:20220912
DTEND;VALUE=DATE:20220915
DTSTAMP:20260422T223121
CREATED:20220913T020908Z
LAST-MODIFIED:20230125T035247Z
UID:17514-1662940800-1663199999@truckdriversus.com
SUMMARY:Driver Appreciation Week - Truck World  - Hubbard\, OH Location
DESCRIPTION:Driver Appreciation Week – Truck World\nSeptember 12-14\, 2022 – Hubbard\, OH Location\nTime to celebrate our DRIVERS!\nSAVE THE DATE…. September 12-14\, 2022 \nTruck World has Lunch for Drivers\, Games\, T-Shirt Giveaways\, Double Loyalty Points during September & more!  Be sure to download our APP so you don’t miss any updates!
URL:https://truckdriversus.com/event/driver-appreciation-week-truck-world-hubbard-oh-location/
CATEGORIES:Driver Appreciation,Events
ATTACH;FMTTYPE=image/jpeg:https://truckdriversus.com/wp-content/uploads/2023/01/Truck-World-Driver-Appreciation.jpg
END:VEVENT
BEGIN:VEVENT
DTSTART;VALUE=DATE:20220912
DTEND;VALUE=DATE:20220915
DTSTAMP:20260422T223121
CREATED:20220913T021333Z
LAST-MODIFIED:20230125T035247Z
UID:17515-1662940800-1663199999@truckdriversus.com
SUMMARY:Driver Appreciation Week - Truck World  - North Jackson\, OH Location
DESCRIPTION:Driver Appreciation Week – Truck World\nSeptember 12-14\, 2022 – North Jackson\, OH Location\nTime to celebrate our DRIVERS!\nSAVE THE DATE…. September 12-14\, 2022 \nTruck World has Lunch for Drivers\, Games\, T-Shirt Giveaways\, Double Loyalty Points during September & more!  Be sure to download our APP so you don’t miss any updates!
URL:https://truckdriversus.com/event/driver-appreciation-week-truck-world-north-jackson-oh-location/
CATEGORIES:Driver Appreciation,Events
ATTACH;FMTTYPE=image/jpeg:https://truckdriversus.com/wp-content/uploads/2023/01/Truck-World-Driver-Appreciation.jpg
END:VEVENT
END:VCALENDAR