BEGIN:VCALENDAR
VERSION:2.0
PRODID:-//Truck Drivers USA - ECPv6.15.20//NONSGML v1.0//EN
CALSCALE:GREGORIAN
METHOD:PUBLISH
X-ORIGINAL-URL:https://truckdriversus.com
X-WR-CALDESC:Events for Truck Drivers USA
REFRESH-INTERVAL;VALUE=DURATION:PT1H
X-Robots-Tag:noindex
X-PUBLISHED-TTL:PT1H
BEGIN:VTIMEZONE
TZID:UTC
BEGIN:STANDARD
TZOFFSETFROM:+0000
TZOFFSETTO:+0000
TZNAME:UTC
DTSTART:20210101T000000
END:STANDARD
END:VTIMEZONE
BEGIN:VEVENT
DTSTART;TZID=UTC:20220916T113000
DTEND;TZID=UTC:20220916T133000
DTSTAMP:20260422T223103
CREATED:20220913T013524Z
LAST-MODIFIED:20230125T035247Z
UID:17512-1663327800-1663335000@truckdriversus.com
SUMMARY:Driver Appreciation Lunch - 9/16 - KC Terminal
DESCRIPTION:Driver Appreciation Lunch – 9/16 – KC Terminal\nEvent by Riverside Transport – RTI\nRiverside Transport – RTI is having Manny’s Mexican at the KC Terminal.\nMeal provided by Extra Lease.\nFood will be served from 11:30AM-1:30PM.\nRTI hopes to see you there!
URL:https://truckdriversus.com/event/driver-appreciation-lunch-9-16-kc-terminal/
CATEGORIES:Driver Appreciation,Events
ATTACH;FMTTYPE=image/png:https://truckdriversus.com/wp-content/uploads/2022/12/Driver-2.png
END:VEVENT
END:VCALENDAR