BEGIN:VCALENDAR
VERSION:2.0
PRODID:-//Truck Drivers USA - ECPv6.15.20//NONSGML v1.0//EN
CALSCALE:GREGORIAN
METHOD:PUBLISH
X-WR-CALNAME:Truck Drivers USA
X-ORIGINAL-URL:https://truckdriversus.com
X-WR-CALDESC:Events for Truck Drivers USA
REFRESH-INTERVAL;VALUE=DURATION:PT1H
X-Robots-Tag:noindex
X-PUBLISHED-TTL:PT1H
BEGIN:VTIMEZONE
TZID:UTC
BEGIN:STANDARD
TZOFFSETFROM:+0000
TZOFFSETTO:+0000
TZNAME:UTC
DTSTART:20210101T000000
END:STANDARD
END:VTIMEZONE
BEGIN:VEVENT
DTSTART;VALUE=DATE:20220831
DTEND;VALUE=DATE:20220902
DTSTAMP:20260422T174030
CREATED:20220224T161038Z
LAST-MODIFIED:20230123T205851Z
UID:17438-1661904000-1662076799@truckdriversus.com
SUMMARY:Home Delivery World 2022
DESCRIPTION:WHAT IS HOME DELIVERY WORLD?\nHome Delivery World has been a meeting place for the brightest and most innovative minds for over 10 years.\nThe premier conference for last mile logistics\, Home Delivery World hosts more than 300 exhibitors\, upward of 5\,000 attendees and hundreds of speakers from major retail brands. “The show is dedicated to uncovering innovative solutions for retailers\, grocers\, CPGs and 3PLs facing challenges across the supply chain from warehousing to fulfillment and the last mile.” \nHome Delivery World is the industry-defining conference and exhibition for last mile logistics in the US and abroad. The show is dedicated to uncovering innovative solutions for retailers\, grocers\, CPGs and 3PLs facing challenges across the supply chain from warehousing to fulfillment and the last mile. \nFrom fleet & route optimization\, and reverse logistics\, to grocery delivery\, parcel spend and white glove\, this is the event of most importance for eCommerce retail supply chain. \n 
URL:https://truckdriversus.com/event/home-delivery-world-2022/
CATEGORIES:Events,Trade Shows
ATTACH;FMTTYPE=image/png:https://truckdriversus.com/wp-content/uploads/2023/01/Home-Delivery-World.png
END:VEVENT
BEGIN:VEVENT
DTSTART;VALUE=DATE:20220912
DTEND;VALUE=DATE:20220915
DTSTAMP:20260422T174030
CREATED:20220224T162011Z
LAST-MODIFIED:20230123T205853Z
UID:17442-1662940800-1663199999@truckdriversus.com
SUMMARY:Intermodal Expo
DESCRIPTION:CHECK OUT THE INTERMODAL EXPO IN LONG BEACH\, CALIFORNIA ON SEPTEMBER 12-14\, 2022\nThe most important event of the year for the intermodal industry.\nCOVID 19 UPDATE\nIANA is monitoring potential changes to CDC\, California State\, and Local jurisdictions’ COVID guidelines and will take whatever steps are necessary for the health and safety of our event participants. Your well-being is IANA’s #1 priority. \nNEW GENERAL SESSION ANNOUNCED: DEMOGRAPHIC STRATEGIES FOR THE POST-CORONA ERA \nKen Gronbach\, president of KGC Direct\, LLC\, is an internationally respected demographer who forecasts societal\, commercial\, economic\, cultural and political phenomena with uncanny accuracy. The author of several books\, he predicts that the United States and the Americas\, because of their demographics\, will excel culturally and economically in the post-coronavirus era. Read about his 9/14 presentation in the program. \nEXHIBIT HALL FEATURES \n\n80+ innovative companies sharing products and services supporting the growth of intermodal\nA Dialogue Box offering curated 30-minute talks from exhibiting companies\nLet’s Talk Supply Chain – podcaster Sarah Barnes-Humphrey will be interviewing exhibitors and attendees\nAfternoon Breaks\, featuring a gourmet coffee station\, ballpark snacks and ice cream social – New in ’22!\nVirtual Golf – compete for the longest drive and the $10\,000 hole-in-one prize – New in ’22!\nExhibit Hall Passport Contest with daily drawing for winners – New in ’22!\n\nWHY ATTEND\nIntermodal EXPO is the only event that brings the North American freight supply chain together to collaborate\, build and advance the industry. It’s a classroom for new skills and a forum for products\, services and solutions. EXPO is where connections are made and business happens.
URL:https://truckdriversus.com/event/intermodal-expo/
CATEGORIES:Events,Trade Shows
ATTACH;FMTTYPE=image/png:https://truckdriversus.com/wp-content/uploads/2023/01/Intermodal-EXPO-LogoNoDates2022Red.png
END:VEVENT
END:VCALENDAR