BEGIN:VCALENDAR
VERSION:2.0
PRODID:-//Truck Drivers USA - ECPv6.15.20//NONSGML v1.0//EN
CALSCALE:GREGORIAN
METHOD:PUBLISH
X-ORIGINAL-URL:https://truckdriversus.com
X-WR-CALDESC:Events for Truck Drivers USA
REFRESH-INTERVAL;VALUE=DURATION:PT1H
X-Robots-Tag:noindex
X-PUBLISHED-TTL:PT1H
BEGIN:VTIMEZONE
TZID:UTC
BEGIN:STANDARD
TZOFFSETFROM:+0000
TZOFFSETTO:+0000
TZNAME:UTC
DTSTART:20210101T000000
END:STANDARD
END:VTIMEZONE
BEGIN:VEVENT
DTSTART;VALUE=DATE:20220715
DTEND;VALUE=DATE:20220717
DTSTAMP:20260422T174730
CREATED:20220224T160654Z
LAST-MODIFIED:20230123T205851Z
UID:17437-1657843200-1658015999@truckdriversus.com
SUMMARY:Expedite Expo
DESCRIPTION:THE ONLY EXCLUSIVELY\nEXPEDITING TRADE SHOW\nExpedite Expo focuses exclusively on the expedited trucking industry and hosts more than 45 exhibitors. Owner operators\, drivers\, fleet managers\, fleet executives and individuals interested in expedite trucking are welcome to attend and “learn about the newest expedite trucking industry news\, equipment\, career opportunities and products.” \nTaking place at the  Allen County War Memorial Coliseum on\nJuly 15-16\, 2022. People from all over North America will come to\nlearn about the newest expedite trucking industry news\, equipment\,\ncareer opportunities and products geared specifically to\nexpedite owner operators and drivers.
URL:https://truckdriversus.com/event/expedite-expo/
CATEGORIES:Events,Trade Shows
ATTACH;FMTTYPE=image/png:https://truckdriversus.com/wp-content/uploads/2023/01/Untitled-design-9.png
END:VEVENT
END:VCALENDAR