BEGIN:VCALENDAR
VERSION:2.0
PRODID:-//Truck Drivers USA - ECPv6.15.20//NONSGML v1.0//EN
CALSCALE:GREGORIAN
METHOD:PUBLISH
X-WR-CALNAME:Truck Drivers USA
X-ORIGINAL-URL:https://truckdriversus.com
X-WR-CALDESC:Events for Truck Drivers USA
REFRESH-INTERVAL;VALUE=DURATION:PT1H
X-Robots-Tag:noindex
X-PUBLISHED-TTL:PT1H
BEGIN:VTIMEZONE
TZID:UTC
BEGIN:STANDARD
TZOFFSETFROM:+0000
TZOFFSETTO:+0000
TZNAME:UTC
DTSTART:20230101T000000
END:STANDARD
END:VTIMEZONE
BEGIN:VEVENT
DTSTART;VALUE=DATE:20240502
DTEND;VALUE=DATE:20240505
DTSTAMP:20260421T092719
CREATED:20240215T171419Z
LAST-MODIFIED:20240215T171419Z
UID:154241-1714608000-1714867199@truckdriversus.com
SUMMARY:2024 Mississippi Truck Driving Championships & Step Van Driving Championships
DESCRIPTION:Get Ready for the 2024 Mississippi Truck Driving Championships & Step Van Driving Championships!\nTruck driving championships not only celebrate the skills and expertise of professional drivers but also promote safety and excellence within the trucking industry. They provide an opportunity for drivers to demonstrate their proficiency\, learn from their peers\, and foster camaraderie within the trucking community. \nThis year’s competition will be held May 2-4 in Gulport\, MS. \nQuestions?\nCall Steve Boudreaux\, 601-354-0616 or email steveb@mstrucking.org \n 
URL:https://truckdriversus.com/event/2024-mississippi-truck-driving-championships-step-van-driving-championships/
LOCATION:Seaway Road Lot\, Gulfport\, MS\, United States
CATEGORIES:Truck Driving Championships
ATTACH;FMTTYPE=image/png:https://truckdriversus.com/wp-content/uploads/2024/02/MS-Trucking-Association.png
END:VEVENT
BEGIN:VEVENT
DTSTART;VALUE=DATE:20240607
DTEND;VALUE=DATE:20240608
DTSTAMP:20260421T092719
CREATED:20240122T163123Z
LAST-MODIFIED:20240416T165404Z
UID:81418-1717718400-1717804799@truckdriversus.com
SUMMARY:2024 Alabama Truck Driving Championships
DESCRIPTION:2024 Alabama Truck Driving Championships\nOur annual live skills competition for commercial drivers happening Friday\, June 7\, 2024\, on the grounds of the Pelham Civic Complex in Pelham\, Ala. Dozens of professional truck drivers are expected to compete in nine vehicle classes. It’s our safety council’s largest\, most popular event of the year. Contestants compete in fleet safety knowledge\, driving skills and vehicle inspections. Any driver is eligible to compete if they have been employed continuously by an ATA member firm for the past year and are accident-free from June 7\, 2023\, to June 7\, 2024. \nFor updated information\, be sure to visit alabamatrucking.org.
URL:https://truckdriversus.com/event/2024-alabama-truck-driving-championships/
LOCATION:Pelham Civic Complex\, 500 Amphitheater Road\, Pelham\, AL\, 35124\, United States
CATEGORIES:Truck Driving Championships
ATTACH;FMTTYPE=image/jpeg:https://truckdriversus.com/wp-content/uploads/2023/01/ata.jpg
ORGANIZER;CN="Alabama Trucking Association":MAILTO:bnorcross@alabamatrucking.org
END:VEVENT
END:VCALENDAR