BEGIN:VCALENDAR
VERSION:2.0
PRODID:-//Truck Drivers USA - ECPv6.15.20//NONSGML v1.0//EN
CALSCALE:GREGORIAN
METHOD:PUBLISH
X-ORIGINAL-URL:https://truckdriversus.com
X-WR-CALDESC:Events for Truck Drivers USA
REFRESH-INTERVAL;VALUE=DURATION:PT1H
X-Robots-Tag:noindex
X-PUBLISHED-TTL:PT1H
BEGIN:VTIMEZONE
TZID:UTC
BEGIN:STANDARD
TZOFFSETFROM:+0000
TZOFFSETTO:+0000
TZNAME:UTC
DTSTART:20210101T000000
END:STANDARD
END:VTIMEZONE
BEGIN:VEVENT
DTSTART;VALUE=DATE:20220914
DTEND;VALUE=DATE:20220917
DTSTAMP:20260422T013932
CREATED:20220826T145126Z
LAST-MODIFIED:20230125T035247Z
UID:17509-1663113600-1663372799@truckdriversus.com
SUMMARY:International Foodservice Distributors Association – IFDA Distribution Solutions Conference
DESCRIPTION:International Foodservice Distributors Association\nIFDA Distribution Solutions 2022 Conference\nSept. 14–16 | Tampa\, Florida\nIFDA is pulling out all the stops for this year’s DSC. You’ll meet the industry’s top vendors in our expanded exhibit hall\, learn from world-class speakers covering today’s hottest topics\, explore cutting-edge technology solutions\, and enjoy new ways to connect face-to-face with colleagues and customers. \nNo virtual booths. No video calls. You’ll be in the same place with thousands of foodservice distribution decision-makers\, feeling the industry’s renewed energy in one of the country’s most vibrant and beautiful cities. \nDSC is back and drawing a new map for the future of foodservice distribution. Join us Sept. 14–16 at the Tampa Convention Center.
URL:https://truckdriversus.com/event/international-foodservice-distributors-association-ifda-distribution-solutions-conference/
LOCATION:NV
CATEGORIES:Events,Trucking Conference and Exhibition
ATTACH;FMTTYPE=image/png:https://truckdriversus.com/wp-content/uploads/2023/01/To-all-of-the-hard-working-truck-drivers-out-there-1-1.png
END:VEVENT
BEGIN:VEVENT
DTSTART;VALUE=DATE:20220919
DTEND;VALUE=DATE:20220921
DTSTAMP:20260422T013932
CREATED:20220824T210354Z
LAST-MODIFIED:20230125T035247Z
UID:17505-1663545600-1663718399@truckdriversus.com
SUMMARY:ATA's 2022 Moving & Storage Conference (MSC) Call on Washington
DESCRIPTION:Representation for Movers on Capitol Hill \nSeptember 19-20\, 2022 | Washington\, D.C. \nATA’s Moving & Storage Conference (MSC) is hosting the 2022 Moving & Storage Conference (MSC) Call on Washington\, September 19-21 at ATA’s headquarters in Washington\, D.C. The event will bring together industry experts in moving and storage to speak on important issues in committee meetings\, as well as in meetings with members of congress. \nThis meeting provides MSC members a unique value to capitalize on their membership and ensure their company’s interests are well-represented. MSC is dependent upon your engagement and voice\, and this event serves as a way to share your concerns and create a stronger future for your industry. MSC’s Call on Washington program is your opportunity to meet directly with Members of Congress\, key congressional staff\, federal regulators\, fellow industry leaders\, as well as MSC and ATA staff to discuss in person legislation and regulations affecting the moving industry.
URL:https://truckdriversus.com/event/atas-2022-moving-storage-conference-msc-call-on-washington/
LOCATION:NV
CATEGORIES:Events,Trucking Conference and Exhibition
ATTACH;FMTTYPE=image/png:https://truckdriversus.com/wp-content/uploads/2023/01/ATAs-2022-Moving-Storage-Conference-MSC-Call-on-Washington.png
END:VEVENT
END:VCALENDAR