BEGIN:VCALENDAR
VERSION:2.0
PRODID:-//Truck Drivers USA - ECPv6.15.20//NONSGML v1.0//EN
CALSCALE:GREGORIAN
METHOD:PUBLISH
X-WR-CALNAME:Truck Drivers USA
X-ORIGINAL-URL:https://truckdriversus.com
X-WR-CALDESC:Events for Truck Drivers USA
REFRESH-INTERVAL;VALUE=DURATION:PT1H
X-Robots-Tag:noindex
X-PUBLISHED-TTL:PT1H
BEGIN:VTIMEZONE
TZID:America/Chicago
BEGIN:DAYLIGHT
TZOFFSETFROM:-0600
TZOFFSETTO:-0500
TZNAME:CDT
DTSTART:20210314T080000
END:DAYLIGHT
BEGIN:STANDARD
TZOFFSETFROM:-0500
TZOFFSETTO:-0600
TZNAME:CST
DTSTART:20211107T070000
END:STANDARD
BEGIN:DAYLIGHT
TZOFFSETFROM:-0600
TZOFFSETTO:-0500
TZNAME:CDT
DTSTART:20220313T080000
END:DAYLIGHT
BEGIN:STANDARD
TZOFFSETFROM:-0500
TZOFFSETTO:-0600
TZNAME:CST
DTSTART:20221106T070000
END:STANDARD
BEGIN:DAYLIGHT
TZOFFSETFROM:-0600
TZOFFSETTO:-0500
TZNAME:CDT
DTSTART:20230312T080000
END:DAYLIGHT
BEGIN:STANDARD
TZOFFSETFROM:-0500
TZOFFSETTO:-0600
TZNAME:CST
DTSTART:20231105T070000
END:STANDARD
END:VTIMEZONE
BEGIN:VEVENT
DTSTART;VALUE=DATE:20220625
DTEND;VALUE=DATE:20220626
DTSTAMP:20260422T221001
CREATED:20220623T134157Z
LAST-MODIFIED:20230123T205906Z
UID:17493-1656115200-1656201599@truckdriversus.com
SUMMARY:OWNER OPERATOR HIRING EVENT HOSTED BY 5F CEO
DESCRIPTION:Join 6\,000+ Drivers Shaping the Future\nBenefits for 5F Owner Operators \n\nOptimized Routes in the 5F App to earn 40% above market\nMake your own schedule\nKeep 92.5% gross\nFree Next Day Pay\n\nJoin 5F CEO at Owner Operator Hiring Event\n 
URL:https://truckdriversus.com/event/owner-operator-hiring-event-hosted-by-5f-ceo/
CATEGORIES:Events,Hiring Events
ATTACH;FMTTYPE=image/png:https://truckdriversus.com/wp-content/uploads/2023/01/5f.png
END:VEVENT
END:VCALENDAR