BEGIN:VCALENDAR
VERSION:2.0
PRODID:-//Truck Drivers USA - ECPv6.15.20//NONSGML v1.0//EN
CALSCALE:GREGORIAN
METHOD:PUBLISH
X-ORIGINAL-URL:https://truckdriversus.com
X-WR-CALDESC:Events for Truck Drivers USA
REFRESH-INTERVAL;VALUE=DURATION:PT1H
X-Robots-Tag:noindex
X-PUBLISHED-TTL:PT1H
BEGIN:VTIMEZONE
TZID:UTC
BEGIN:STANDARD
TZOFFSETFROM:+0000
TZOFFSETTO:+0000
TZNAME:UTC
DTSTART:20210101T000000
END:STANDARD
END:VTIMEZONE
BEGIN:VEVENT
DTSTART;VALUE=DATE:20220609
DTEND;VALUE=DATE:20220612
DTSTAMP:20260423T042500
CREATED:20220224T163033Z
LAST-MODIFIED:20230123T205855Z
UID:17448-1654732800-1654991999@truckdriversus.com
SUMMARY:American Truck Historical Society National Convention & Truck Show
DESCRIPTION:From amazing speakers to the best historic truck show on the planet\, the  National Convention & Truck Show is the place to be.
URL:https://truckdriversus.com/event/american-truck-historical-society-national-convention-truck-show/
CATEGORIES:Events,Truck Shows
END:VEVENT
END:VCALENDAR